BEGIN:VCALENDAR
VERSION:2.0
PRODID:-//Department Of Education//11f2da51-21b4-45a9-a523-f1ac3d9c504d
BEGIN:VTIMEZONE
TZID:Australia/Sydney
TZURL:http://tzurl.org/zoneinfo-outlook/Australia/Sydney
X-LIC-LOCATION:Australia/Sydney
BEGIN:STANDARD
TZOFFSETFROM:+1100
TZOFFSETTO:+1000
TZNAME:AEST
DTSTART:19700405T030000
RRULE:FREQ=YEARLY;BYMONTH=4;BYDAY=1SU
END:STANDARD
BEGIN:DAYLIGHT
TZOFFSETFROM:+1000
TZOFFSETTO:+1100
TZNAME:AEDT
DTSTART:19701004T020000
RRULE:FREQ=YEARLY;BYMONTH=10;BYDAY=1SU
END:DAYLIGHT
END:VTIMEZONE
CALSCALE:GREGORIAN
X-WR-TIMEZONE:Australia/Sydney
BEGIN:VEVENT
DTSTART;VALUE=DATE:20200528
DTEND;VALUE=DATE:20200529
DTSTAMP:20200528T000000Z
UID:e35c1494-fec2-4afb-94e7-572e56f9d7fa
LOCATION:School Hall
SUMMARY;LANGUAGE=en-us:Musica Viva: Music in My Suitcase
SEQUENCE:0
DESCRIPTION:Iconic world music group Mara! will inspire student to listen to and understand each other by sharing music from mulitcultural Australia.
END:VEVENT
TRANSP:TRANSPARENT
END:VCALENDAR
