BEGIN:VCALENDAR
VERSION:2.0
PRODID:-//Department Of Education//fa2e1624-2964-4bf5-b6ce-53becbd7fc9d
BEGIN:VTIMEZONE
TZID:Australia/Sydney
TZURL:http://tzurl.org/zoneinfo-outlook/Australia/Sydney
X-LIC-LOCATION:Australia/Sydney
BEGIN:STANDARD
TZOFFSETFROM:+1100
TZOFFSETTO:+1000
TZNAME:AEST
DTSTART:19700405T030000
RRULE:FREQ=YEARLY;BYMONTH=4;BYDAY=1SU
END:STANDARD
BEGIN:DAYLIGHT
TZOFFSETFROM:+1000
TZOFFSETTO:+1100
TZNAME:AEDT
DTSTART:19701004T020000
RRULE:FREQ=YEARLY;BYMONTH=10;BYDAY=1SU
END:DAYLIGHT
END:VTIMEZONE
CALSCALE:GREGORIAN
X-WR-TIMEZONE:Australia/Sydney
BEGIN:VEVENT
DTSTART;VALUE=DATE:20200622
DTEND;VALUE=DATE:20200623
DTSTAMP:20200622T000000Z
UID:f76b45e3-0375-4b56-92b8-828f92d5ee15
LOCATION:Dunbar Park, Marsfield
SUMMARY;LANGUAGE=en-us:Athletics Carnival
SEQUENCE:0
DESCRIPTION:Students will run, thorw, jump and spectate at our annual school Athletics Carnival.
END:VEVENT
TRANSP:TRANSPARENT
END:VCALENDAR
