BEGIN:VCALENDAR
VERSION:2.0
PRODID:-//Department Of Education//b57bc339-9f25-45e2-ae37-e0dc54363504
BEGIN:VTIMEZONE
TZID:Australia/Sydney
TZURL:http://tzurl.org/zoneinfo-outlook/Australia/Sydney
X-LIC-LOCATION:Australia/Sydney
BEGIN:STANDARD
TZOFFSETFROM:+1100
TZOFFSETTO:+1000
TZNAME:AEST
DTSTART:19700405T030000
RRULE:FREQ=YEARLY;BYMONTH=4;BYDAY=1SU
END:STANDARD
BEGIN:DAYLIGHT
TZOFFSETFROM:+1000
TZOFFSETTO:+1100
TZNAME:AEDT
DTSTART:19701004T020000
RRULE:FREQ=YEARLY;BYMONTH=10;BYDAY=1SU
END:DAYLIGHT
END:VTIMEZONE
CALSCALE:GREGORIAN
X-WR-TIMEZONE:Australia/Sydney
BEGIN:VEVENT
DTSTART;VALUE=DATE:20200624
DTEND;VALUE=DATE:20200625
DTSTAMP:20200624T000000Z
UID:2ec24ea1-c883-482d-a41f-b5f896667672
LOCATION:Calmsley Hill City Farm, Abbotsbury
SUMMARY;LANGUAGE=en-us:Calmsley Hill City Farm Kindergarten Excursion
SEQUENCE:0
DESCRIPTION:Students will be led by a farmer/guide through a variety of education stations where they will have an apportunity to touch and pat different animals.  After a busy morning, the students will relax on a tractor ride.
END:VEVENT
TRANSP:TRANSPARENT
END:VCALENDAR
