BEGIN:VCALENDAR
VERSION:2.0
PRODID:-//Department Of Education//98e58694-be09-478d-98a6-fd194e4275cb
BEGIN:VTIMEZONE
TZID:Australia/Sydney
TZURL:http://tzurl.org/zoneinfo-outlook/Australia/Sydney
X-LIC-LOCATION:Australia/Sydney
BEGIN:STANDARD
TZOFFSETFROM:+1100
TZOFFSETTO:+1000
TZNAME:AEST
DTSTART:19700405T030000
RRULE:FREQ=YEARLY;BYMONTH=4;BYDAY=1SU
END:STANDARD
BEGIN:DAYLIGHT
TZOFFSETFROM:+1000
TZOFFSETTO:+1100
TZNAME:AEDT
DTSTART:19701004T020000
RRULE:FREQ=YEARLY;BYMONTH=10;BYDAY=1SU
END:DAYLIGHT
END:VTIMEZONE
CALSCALE:GREGORIAN
X-WR-TIMEZONE:Australia/Sydney
BEGIN:VEVENT
DTSTART;VALUE=DATE:20200618
DTEND;VALUE=DATE:20200619
DTSTAMP:20200618T000000Z
UID:42f11622-6f28-452f-bd22-4789dfc2b4a1
LOCATION:Field of Mars Environment Centre, Gladesville
SUMMARY;LANGUAGE=en-us:History Excursion: Local Aboriginal Studies  Yr 3 & 4
SEQUENCE:0
DESCRIPTION:On a rugged bushwalk along Lane Cover River, students will explore the natural environment that provides food, tools, shelter and other resources.  Students will learn about cultural sites and the ways to care for Country.
END:VEVENT
TRANSP:TRANSPARENT
END:VCALENDAR
