BEGIN:VCALENDAR
VERSION:2.0
PRODID:-//Department Of Education//65e93f15-322a-48e8-ac03-961960ffd1c5
BEGIN:VTIMEZONE
TZID:Australia/Sydney
TZURL:http://tzurl.org/zoneinfo-outlook/Australia/Sydney
X-LIC-LOCATION:Australia/Sydney
BEGIN:STANDARD
TZOFFSETFROM:+1100
TZOFFSETTO:+1000
TZNAME:AEST
DTSTART:19700405T030000
RRULE:FREQ=YEARLY;BYMONTH=4;BYDAY=1SU
END:STANDARD
BEGIN:DAYLIGHT
TZOFFSETFROM:+1000
TZOFFSETTO:+1100
TZNAME:AEDT
DTSTART:19701004T020000
RRULE:FREQ=YEARLY;BYMONTH=10;BYDAY=1SU
END:DAYLIGHT
END:VTIMEZONE
CALSCALE:GREGORIAN
X-WR-TIMEZONE:Australia/Sydney
BEGIN:VEVENT
DTSTART;VALUE=DATE:20200601
DTEND;VALUE=DATE:20200604
DTSTAMP:20200601T000000Z
UID:223c734d-f5e5-405c-93fd-eee08c3b87e2
LOCATION:Point Wolstoncroft Sport and Recreation Centre
SUMMARY;LANGUAGE=en-us:Year 5/6 Camp
SEQUENCE:0
DESCRIPTION:This year students will go on a three day, two night camp to participate in the ROAR program (Relationships, Outdoors, Action and Resilience). Whether it's working in teams to build a raft, paddling a canoe blindfolded through a set course or challenging themselves on the flying fox and giant swing, students will come away from ROAR with positive experiences and a greater sense of themselves.
END:VEVENT
TRANSP:TRANSPARENT
END:VCALENDAR
